BEGIN:VCALENDAR
VERSION:2.0
METHOD:PUBLISH
PRODID:-//Telerik Inc.//Sitefinity CMS 14.4//EN
BEGIN:VTIMEZONE
TZID:Singapore Standard Time
BEGIN:STANDARD
DTSTART;VALUE=DATE:20250101
TZNAME:Malay Peninsula Standard Time
TZOFFSETFROM:+0800
TZOFFSETTO:+0800
END:STANDARD
END:VTIMEZONE
BEGIN:VEVENT
DESCRIPTION:
DTEND:20260730T090000Z
DTSTAMP:20260422T194604Z
DTSTART:20260730T030000Z
LOCATION:
SEQUENCE:0
SUMMARY:Republic Poly-Uniformed Services Career Fair 2026
UID:RFCALITEM639125127646867643
X-ALT-DESC;FMTTYPE=text/html:
END:VEVENT
END:VCALENDAR
